BEGIN:VCALENDAR
VERSION:2.0
PRODID:-//wp-events-plugin.com//7.2.3.1//EN
TZID:Asia/Tokyo
X-WR-TIMEZONE:Asia/Tokyo
BEGIN:VEVENT
UID:8@reframe8.com
DTSTART;TZID=Asia/Tokyo:20260414T100000
DTEND;TZID=Asia/Tokyo:20260415T160000
DTSTAMP:20260303T095114Z
URL:https://reframe8.com/events/20260414-reservation-new-employee-training
 /
SUMMARY:【4月14～15日】新入社員研修のご予約はこちら
DESCRIPTION:新入社員研修のご案内\n札幌での開催です。\n
 本研修は2日間のプログラムです。\n本研修では、実務
 の基礎に加え、働き続けるための意識づくりまでを視
 野に入れたプログラムを提供しています。\n\n
ATTACH;FMTTYPE=image/jpeg:https://reframe8.com/wp-content/uploads/2024/07/
 a42d3f54137ab5dd5d871888a2153d8c.jpeg
CATEGORIES:セミナー
LOCATION:さっぽろ大通コワーキングスペース　ドリノキ\, 
 南1条西4丁目13番地 日之出ビル9F ドリノキ\, 札幌市中央
 区\, 北海道\, 060-0061\, 日本
GEO:43.059311;141.351974
X-APPLE-STRUCTURED-LOCATION;VALUE=URI;X-ADDRESS=南1条西4丁目13番地 
 日之出ビル9F ドリノキ\, 札幌市中央区\, 北海道\, 060-0061
 \, 日本;X-APPLE-RADIUS=100;X-TITLE=さっぽろ大通コワーキング
 スペース　ドリノキ:geo:43.059311,141.351974
END:VEVENT
BEGIN:VTIMEZONE
TZID:Asia/Tokyo
X-LIC-LOCATION:Asia/Tokyo
BEGIN:STANDARD
DTSTART:20250414T100000
TZOFFSETFROM:+0900
TZOFFSETTO:+0900
TZNAME:JST
END:STANDARD
END:VTIMEZONE
END:VCALENDAR