BEGIN:VCALENDAR
VERSION:2.0
PRODID:-//wp-events-plugin.com//7.2.3.1//EN
TZID:Asia/Tokyo
X-WR-TIMEZONE:Asia/Tokyo
BEGIN:VEVENT
UID:4@reframe8.com
DTSTART;TZID=Asia/Tokyo:20260417T100000
DTEND;TZID=Asia/Tokyo:20260417T160000
DTSTAMP:20260207T113826Z
URL:https://reframe8.com/events/20260417-reservation-medical/
SUMMARY:【4月17日】医療・介護者　新入職員向け実践接遇
 研修のご予約はこちら
DESCRIPTION:医療・介護現場で求められる新入職員のための
 実践接遇研修のご案内\n今回は札幌での開催となります
 。\n札幌および近郊の医療機関・介護施設で新人教育を
 ご検討中の管理者・教育担当者の皆さまに、\nご活用い
 ただきたいセミナーです。\n\n
ATTACH;FMTTYPE=image/jpeg:https://reframe8.com/wp-content/uploads/2024/07/
 a42d3f54137ab5dd5d871888a2153d8c.jpeg
CATEGORIES:セミナー
LOCATION:さっぽろ大通コワーキングスペース　ドリノキ\, 
 南1条西4丁目13番地 日之出ビル9F ドリノキ\, 札幌市中央
 区\, 北海道\, 060-0061\, 日本
GEO:43.059311;141.351974
X-APPLE-STRUCTURED-LOCATION;VALUE=URI;X-ADDRESS=南1条西4丁目13番地 
 日之出ビル9F ドリノキ\, 札幌市中央区\, 北海道\, 060-0061
 \, 日本;X-APPLE-RADIUS=100;X-TITLE=さっぽろ大通コワーキング
 スペース　ドリノキ:geo:43.059311,141.351974
END:VEVENT
BEGIN:VTIMEZONE
TZID:Asia/Tokyo
X-LIC-LOCATION:Asia/Tokyo
BEGIN:STANDARD
DTSTART:20250417T100000
TZOFFSETFROM:+0900
TZOFFSETTO:+0900
TZNAME:JST
END:STANDARD
END:VTIMEZONE
END:VCALENDAR